BEGIN:VCALENDAR
VERSION:2.0
PRODID:-//Formations Repère - ECPv6.3.1//NONSGML v1.0//EN
CALSCALE:GREGORIAN
METHOD:PUBLISH
X-ORIGINAL-URL:https://formationsrepere.byvoice.be
X-WR-CALDESC:évènements pour Formations Repère
REFRESH-INTERVAL;VALUE=DURATION:PT1H
X-Robots-Tag:noindex
X-PUBLISHED-TTL:PT1H
BEGIN:VTIMEZONE
TZID:UTC
BEGIN:STANDARD
TZOFFSETFROM:+0000
TZOFFSETTO:+0000
TZNAME:UTC
DTSTART:20230101T000000
END:STANDARD
TZID:Europe/Paris
BEGIN:DAYLIGHT
TZOFFSETFROM:+0100
TZOFFSETTO:+0200
TZNAME:CEST
DTSTART:20230326T010000
END:DAYLIGHT
BEGIN:STANDARD
TZOFFSETFROM:+0200
TZOFFSETTO:+0100
TZNAME:CET
DTSTART:20231029T010000
END:STANDARD
BEGIN:DAYLIGHT
TZOFFSETFROM:+0100
TZOFFSETTO:+0200
TZNAME:CEST
DTSTART:20240331T010000
END:DAYLIGHT
BEGIN:STANDARD
TZOFFSETFROM:+0200
TZOFFSETTO:+0100
TZNAME:CET
DTSTART:20241027T010000
END:STANDARD
END:VTIMEZONE
BEGIN:VEVENT
DTSTART;TZID=UTC:20231218T080000
DTEND;TZID=UTC:20240105T170000
DTSTAMP:20260419T161615
CREATED:20171121T140044Z
LAST-MODIFIED:20171121T140044Z
UID:242-1702886400-1704474000@formationsrepere.byvoice.be
SUMMARY:Pharmacy Basics with Lab Introduction
DESCRIPTION:Phasellus cursus nunc arcu\, eget sollicitudin mi lacinia tempus. Donec ligula turpis\, egestas at volutpat non\, pellentesque ut nibh. Aliquam varius aliquam urna\, sed bibendum leo dignissim ac. Phasellus quis leo sem. Morbi vitae congue sapien. Phasellus accumsan mi ex. Cum sociis natoque penatibus et magnis dis parturient montes\, nascetur ridiculus mus. Ut sollicitudin lacinia ex. \nInterdum et malesuada fames ac ante ipsum primis in faucibus. Donec nec felis sed magna euismod venenatis. Nulla sed varius est\, ac viverra nisl. Cras nec purus erat. Pellentesque eget molestie risus\, quis bibendum dui. Duis ornare condimentum ornare. Nulla a nulla non odio hendrerit ultricies. Vestibulum tristique quam ac nisl dapibus\, ut semper orci tincidunt. Sed sagittis eros ut pellentesque tempus. Sed in turpis ullamcorper\, fermentum mi eu\, porta dolor. Aliquam imperdiet sem metus\, vel tempor sem.
URL:https://formationsrepere.byvoice.be/evenement/pharmacy-basics-with-lab-introduction/
LOCATION:Formations Repère Nivelles\, Rue de la Maîtrise\, 2\, Nivelles\, 1400\, Belgium
CATEGORIES:Medical
ATTACH;FMTTYPE=image/jpeg:https://formationsrepere.byvoice.be/wp-content/uploads/2017/11/post-4-copyright-jpg.webp
ORGANIZER;CN="Formations Rep%C3%A8re":MAILTO:secretariat@formationsrepere.be
END:VEVENT
BEGIN:VEVENT
DTSTART;TZID=UTC:20231107T093000
DTEND;TZID=UTC:20231125T163000
DTSTAMP:20260419T161615
CREATED:20171121T135823Z
LAST-MODIFIED:20171121T135823Z
UID:240-1699349400-1700929800@formationsrepere.byvoice.be
SUMMARY:Introduction to Biomedical Imaging
DESCRIPTION:Phasellus cursus nunc arcu\, eget sollicitudin mi lacinia tempus. Donec ligula turpis\, egestas at volutpat non\, pellentesque ut nibh. Aliquam varius aliquam urna\, sed bibendum leo dignissim ac. Phasellus quis leo sem. Morbi vitae congue sapien. Phasellus accumsan mi ex. Cum sociis natoque penatibus et magnis dis parturient montes\, nascetur ridiculus mus. Ut sollicitudin lacinia ex. \nInterdum et malesuada fames ac ante ipsum primis in faucibus. Donec nec felis sed magna euismod venenatis. Nulla sed varius est\, ac viverra nisl. Cras nec purus erat. Pellentesque eget molestie risus\, quis bibendum dui. Duis ornare condimentum ornare. Nulla a nulla non odio hendrerit ultricies. Vestibulum tristique quam ac nisl dapibus\, ut semper orci tincidunt. Sed sagittis eros ut pellentesque tempus. Sed in turpis ullamcorper\, fermentum mi eu\, porta dolor. Aliquam imperdiet sem metus\, vel tempor sem.
URL:https://formationsrepere.byvoice.be/evenement/introduction-to-biomedical-imaging/
LOCATION:Formations Repère Nivelles\, Rue de la Maîtrise\, 2\, Nivelles\, 1400\, Belgium
CATEGORIES:Scientific
ATTACH;FMTTYPE=image/jpeg:https://formationsrepere.byvoice.be/wp-content/uploads/2017/11/post-8-copyright-jpg.webp
ORGANIZER;CN="Formations Rep%C3%A8re":MAILTO:secretariat@formationsrepere.be
END:VEVENT
BEGIN:VEVENT
DTSTART;TZID=UTC:20231012T100000
DTEND;TZID=UTC:20231102T150000
DTSTAMP:20260419T161615
CREATED:20171121T135654Z
LAST-MODIFIED:20171121T135654Z
UID:238-1697104800-1698937200@formationsrepere.byvoice.be
SUMMARY:Introduction  to Computer Science
DESCRIPTION:Phasellus cursus nunc arcu\, eget sollicitudin mi lacinia tempus. Donec ligula turpis\, egestas at volutpat non\, pellentesque ut nibh. Aliquam varius aliquam urna\, sed bibendum leo dignissim ac. Phasellus quis leo sem. Morbi vitae congue sapien. Phasellus accumsan mi ex. Cum sociis natoque penatibus et magnis dis parturient montes\, nascetur ridiculus mus. Ut sollicitudin lacinia ex. \nInterdum et malesuada fames ac ante ipsum primis in faucibus. Donec nec felis sed magna euismod venenatis. Nulla sed varius est\, ac viverra nisl. Cras nec purus erat. Pellentesque eget molestie risus\, quis bibendum dui. Duis ornare condimentum ornare. Nulla a nulla non odio hendrerit ultricies. Vestibulum tristique quam ac nisl dapibus\, ut semper orci tincidunt. Sed sagittis eros ut pellentesque tempus. Sed in turpis ullamcorper\, fermentum mi eu\, porta dolor. Aliquam imperdiet sem metus\, vel tempor sem.
URL:https://formationsrepere.byvoice.be/evenement/introduction-to-computer-science/
LOCATION:Formations Repère Nivelles\, Rue de la Maîtrise\, 2\, Nivelles\, 1400\, Belgium
CATEGORIES:Computer
ATTACH;FMTTYPE=image/jpeg:https://formationsrepere.byvoice.be/wp-content/uploads/2017/11/post-10-copyright-jpg.webp
ORGANIZER;CN="Formations Rep%C3%A8re":MAILTO:secretariat@formationsrepere.be
END:VEVENT
BEGIN:VEVENT
DTSTART;TZID=UTC:20230705T090000
DTEND;TZID=UTC:20230928T153000
DTSTAMP:20260419T161615
CREATED:20171121T135226Z
LAST-MODIFIED:20181127T112008Z
UID:234-1688547600-1695915000@formationsrepere.byvoice.be
SUMMARY:Medical Chemistry: The Molecular Basis Study
DESCRIPTION:Phasellus cursus nunc arcu\, eget sollicitudin mi lacinia tempus. Donec ligula turpis\, egestas at volutpat non\, pellentesque ut nibh. Aliquam varius aliquam urna\, sed bibendum leo dignissim ac. Phasellus quis leo sem. Morbi vitae congue sapien. Phasellus accumsan mi ex. Cum sociis natoque penatibus et magnis dis parturient montes\, nascetur ridiculus mus. Ut sollicitudin lacinia ex. \nInterdum et malesuada fames ac ante ipsum primis in faucibus. Donec nec felis sed magna euismod venenatis. Nulla sed varius est\, ac viverra nisl. Cras nec purus erat. Pellentesque eget molestie risus\, quis bibendum dui. Duis ornare condimentum ornare. Nulla a nulla non odio hendrerit ultricies. Vestibulum tristique quam ac nisl dapibus\, ut semper orci tincidunt. Sed sagittis eros ut pellentesque tempus. Sed in turpis ullamcorper\, fermentum mi eu\, porta dolor. Aliquam imperdiet sem metus\, vel tempor sem.
URL:https://formationsrepere.byvoice.be/evenement/medical-chemistry-the-molecular-basis-study/
LOCATION:Formations Repère Nivelles\, Rue de la Maîtrise\, 2\, Nivelles\, 1400\, Belgium
CATEGORIES:Medical,Scientific
ATTACH;FMTTYPE=image/jpeg:https://formationsrepere.byvoice.be/wp-content/uploads/2017/11/post-12-copyright-jpg.webp
ORGANIZER;CN="Formations Rep%C3%A8re":MAILTO:secretariat@formationsrepere.be
END:VEVENT
BEGIN:VEVENT
DTSTART;VALUE=DATE:20230101
DTEND;VALUE=DATE:20250101
DTSTAMP:20260419T161615
CREATED:20171121T134941Z
LAST-MODIFIED:20240126T155125Z
UID:232-1672531200-1735689599@formationsrepere.byvoice.be
SUMMARY:Video Training for Microsoft products and technologies
DESCRIPTION:Phasellus cursus nunc arcu\, eget sollicitudin mi lacinia tempus. Donec ligula turpis\, egestas at volutpat non\, pellentesque ut nibh. Aliquam varius aliquam urna\, sed bibendum leo dignissim ac. Phasellus quis leo sem. Morbi vitae congue sapien. Phasellus accumsan mi ex. Cum sociis natoque penatibus et magnis dis parturient montes\, nascetur ridiculus mus. Ut sollicitudin lacinia ex. \nInterdum et malesuada fames ac ante ipsum primis in faucibus. Donec nec felis sed magna euismod venenatis. Nulla sed varius est\, ac viverra nisl. Cras nec purus erat. Pellentesque eget molestie risus\, quis bibendum dui. Duis ornare condimentum ornare. Nulla a nulla non odio hendrerit ultricies. Vestibulum tristique quam ac nisl dapibus\, ut semper orci tincidunt. Sed sagittis eros ut pellentesque tempus. Sed in turpis ullamcorper\, fermentum mi eu\, porta dolor. Aliquam imperdiet sem metus\, vel tempor sem.
URL:https://formationsrepere.byvoice.be/evenement/video-training-for-microsoft-products-and-technologies/
LOCATION:Formations Repère Nivelles\, Rue de la Maîtrise\, 2\, Nivelles\, 1400\, Belgium
CATEGORIES:Computer
ATTACH;FMTTYPE=image/jpeg:https://formationsrepere.byvoice.be/wp-content/uploads/2017/11/post-5-copyright.jpg
ORGANIZER;CN="Formations Rep%C3%A8re":MAILTO:secretariat@formationsrepere.be
END:VEVENT
END:VCALENDAR