BEGIN:VCALENDAR
VERSION:2.0
PRODID:-//Formations Repère - ECPv6.3.1//NONSGML v1.0//EN
CALSCALE:GREGORIAN
METHOD:PUBLISH
X-ORIGINAL-URL:https://formationsrepere.byvoice.be
X-WR-CALDESC:évènements pour Formations Repère
REFRESH-INTERVAL;VALUE=DURATION:PT1H
X-Robots-Tag:noindex
X-PUBLISHED-TTL:PT1H
BEGIN:VTIMEZONE
TZID:Europe/Paris
BEGIN:DAYLIGHT
TZOFFSETFROM:+0100
TZOFFSETTO:+0200
TZNAME:CEST
DTSTART:20230326T010000
END:DAYLIGHT
BEGIN:STANDARD
TZOFFSETFROM:+0200
TZOFFSETTO:+0100
TZNAME:CET
DTSTART:20231029T010000
END:STANDARD
BEGIN:DAYLIGHT
TZOFFSETFROM:+0100
TZOFFSETTO:+0200
TZNAME:CEST
DTSTART:20240331T010000
END:DAYLIGHT
BEGIN:STANDARD
TZOFFSETFROM:+0200
TZOFFSETTO:+0100
TZNAME:CET
DTSTART:20241027T010000
END:STANDARD
END:VTIMEZONE
BEGIN:VEVENT
DTSTART;VALUE=DATE:20230101
DTEND;VALUE=DATE:20250101
DTSTAMP:20260425T132548
CREATED:20171121T134941Z
LAST-MODIFIED:20240126T155125Z
UID:232-1672531200-1735689599@formationsrepere.byvoice.be
SUMMARY:Video Training for Microsoft products and technologies
DESCRIPTION:Phasellus cursus nunc arcu\, eget sollicitudin mi lacinia tempus. Donec ligula turpis\, egestas at volutpat non\, pellentesque ut nibh. Aliquam varius aliquam urna\, sed bibendum leo dignissim ac. Phasellus quis leo sem. Morbi vitae congue sapien. Phasellus accumsan mi ex. Cum sociis natoque penatibus et magnis dis parturient montes\, nascetur ridiculus mus. Ut sollicitudin lacinia ex. \nInterdum et malesuada fames ac ante ipsum primis in faucibus. Donec nec felis sed magna euismod venenatis. Nulla sed varius est\, ac viverra nisl. Cras nec purus erat. Pellentesque eget molestie risus\, quis bibendum dui. Duis ornare condimentum ornare. Nulla a nulla non odio hendrerit ultricies. Vestibulum tristique quam ac nisl dapibus\, ut semper orci tincidunt. Sed sagittis eros ut pellentesque tempus. Sed in turpis ullamcorper\, fermentum mi eu\, porta dolor. Aliquam imperdiet sem metus\, vel tempor sem.
URL:https://formationsrepere.byvoice.be/evenement/video-training-for-microsoft-products-and-technologies/
LOCATION:Formations Repère Nivelles\, Rue de la Maîtrise\, 2\, Nivelles\, 1400\, Belgium
CATEGORIES:Computer
ATTACH;FMTTYPE=image/jpeg:https://formationsrepere.byvoice.be/wp-content/uploads/2017/11/post-5-copyright.jpg
ORGANIZER;CN="Formations Rep%C3%A8re":MAILTO:secretariat@formationsrepere.be
END:VEVENT
END:VCALENDAR